BEGIN:VCALENDAR
VERSION:2.0
PRODID:-//162.241.226.25//NONSGML kigkonsult.se iCalcreator 2.20//
CALSCALE:GREGORIAN
METHOD:PUBLISH
X-WR-TIMEZONE:America/New_York
BEGIN:VEVENT
UID:event1@KoPix.net
DTSTAMP:20260423T192143Z
CATEGORIES:General
DESCRIPTION:Brunch With Sherls 2021\nCategory: General\nLink: https://kopix
 .net/index.php?option=com_jem&view=event&id=1:brunch-with-sherls-2021&Item
 id=235\n
DTSTART;TZID=America/New_York:20210410T140000
DTEND;TZID=America/New_York:20210410T200000
LOCATION:Brooklyn (Secret Location)\,Brooklyn
SUMMARY:Brunch With Sherls 2021
URL:https://kopix.net/index.php?option=com_jem&view=event&id=1:brunch-with-
 sherls-2021&Itemid=235
END:VEVENT
END:VCALENDAR
