BEGIN:VCALENDAR
VERSION:2.0
PRODID:-//162.241.226.25//NONSGML kigkonsult.se iCalcreator 2.20//
CALSCALE:GREGORIAN
METHOD:PUBLISH
X-WR-TIMEZONE:America/New_York
BEGIN:VEVENT
UID:event17@KoPix.net
DTSTAMP:20260423T192141Z
CATEGORIES:General
DESCRIPTION:K*9 Birthday Celebration\nCategory: General\nLink: https://kopi
 x.net/index.php?option=com_jem&view=event&id=17:k-9-birthday-celebration&I
 temid=235\n
DTSTART;TZID=America/New_York:20210502T170000
DTEND;TZID=America/New_York:20210502T220000
LOCATION:Brooklyn (Secret Location)\,Brooklyn
SUMMARY:K*9 Birthday Celebration
URL:https://kopix.net/index.php?option=com_jem&view=event&id=17:k-9-birthda
 y-celebration&Itemid=235
END:VEVENT
END:VCALENDAR
