BEGIN:VCALENDAR
VERSION:2.0
PRODID:-//162.241.226.25//NONSGML kigkonsult.se iCalcreator 2.20//
CALSCALE:GREGORIAN
METHOD:PUBLISH
X-WR-TIMEZONE:America/New_York
BEGIN:VEVENT
UID:event18@KoPix.net
DTSTAMP:20260423T174937Z
CATEGORIES:General
DESCRIPTION:Revive: Pryce's Birthday Celebration\nCategory: General\nLink: 
 https://kopix.net/index.php?option=com_jem&view=event&id=18:revive-pryce-s
 -birthday-celebration&Itemid=235\n
DTSTART;TZID=America/New_York:20210516T140000
DTEND;TZID=America/New_York:20210516T190000
LOCATION:Bronx\, Secret Location\,Bronx
SUMMARY:Revive: Pryce's Birthday Celebration
URL:https://kopix.net/index.php?option=com_jem&view=event&id=18:revive-pryc
 e-s-birthday-celebration&Itemid=235
END:VEVENT
END:VCALENDAR
