BEGIN:VCALENDAR
VERSION:2.0
PRODID:-//162.241.226.25//NONSGML kigkonsult.se iCalcreator 2.20//
CALSCALE:GREGORIAN
METHOD:PUBLISH
X-WR-TIMEZONE:America/New_York
BEGIN:VEVENT
UID:event19@KoPix.net
DTSTAMP:20260423T181403Z
CATEGORIES:General
DESCRIPTION:DJ Polish & Noah Powa Present Tropical Thursdays\nCategory: Gen
 eral\nLink: https://kopix.net/index.php?option=com_jem&view=event&id=19:dj
 -polish-noah-powa-present-tropical-thursdays&Itemid=235\n
DTSTART;TZID=America/New_York:20210624T170000
DTEND;TZID=America/New_York:20210624T220000
LOCATION:Brooklyn (Secret Location)\,Brooklyn
SUMMARY:DJ Polish & Noah Powa Present Tropical Thursdays
URL:https://kopix.net/index.php?option=com_jem&view=event&id=19:dj-polish-n
 oah-powa-present-tropical-thursdays&Itemid=235
END:VEVENT
END:VCALENDAR
