BEGIN:VCALENDAR
VERSION:2.0
PRODID:-//162.241.226.25//NONSGML kigkonsult.se iCalcreator 2.20//
CALSCALE:GREGORIAN
METHOD:PUBLISH
X-WR-TIMEZONE:America/New_York
BEGIN:VEVENT
UID:event20@KoPix.net
DTSTAMP:20260423T164326Z
CATEGORIES:General
DESCRIPTION:S.I.S.T.A.S\nCategory: General\nLink: https://kopix.net/index.p
 hp?option=com_jem&view=event&id=20:s-i-s-t-a-s&Itemid=235\n
DTSTART;TZID=America/New_York:20210619T170000
DTEND;TZID=America/New_York:20210619T230000
LOCATION:Brooklyn (Secret Location)\,Brooklyn
SUMMARY:S.I.S.T.A.S
URL:https://kopix.net/index.php?option=com_jem&view=event&id=20:s-i-s-t-a-s
 &Itemid=235
END:VEVENT
END:VCALENDAR
