BEGIN:VCALENDAR
VERSION:2.0
PRODID:-//162.241.226.25//NONSGML kigkonsult.se iCalcreator 2.20//
CALSCALE:GREGORIAN
METHOD:PUBLISH
X-WR-TIMEZONE:America/New_York
BEGIN:VEVENT
UID:event21@KoPix.net
DTSTAMP:20260423T164336Z
CATEGORIES:General
DESCRIPTION:Reserved\; by Grine\, Rookie & Guarantee\nCategory: General\nLi
 nk: https://kopix.net/index.php?option=com_jem&view=event&id=21:reserved-b
 y-grine-rookie-guarantee&Itemid=235\n
DTSTART;TZID=America/New_York:20210523T140000
DTEND;TZID=America/New_York:20210523T230000
SUMMARY:Reserved\; by Grine\, Rookie & Guarantee
URL:https://kopix.net/index.php?option=com_jem&view=event&id=21:reserved-by
 -grine-rookie-guarantee&Itemid=235
END:VEVENT
END:VCALENDAR
