BEGIN:VCALENDAR
VERSION:2.0
PRODID:-//162.241.226.25//NONSGML kigkonsult.se iCalcreator 2.20//
CALSCALE:GREGORIAN
METHOD:PUBLISH
X-WR-TIMEZONE:America/New_York
BEGIN:VEVENT
UID:event3@KoPix.net
DTSTAMP:20260425T102236Z
CATEGORIES:General
DESCRIPTION:IMAGINATION Birthday Celebration for GTHOUGHTS\nCategory: Gener
 al\nLink: https://kopix.net/index.php?option=com_jem&view=event&id=3:imagi
 nation-birthday-celebration-for-gthoughts&Itemid=235\n
DTSTART;TZID=America/New_York:20210404T160000
DTEND;TZID=America/New_York:20210404T210000
LOCATION:Brooklyn (Secret Location)\,Brooklyn
SUMMARY:IMAGINATION Birthday Celebration for GTHOUGHTS
URL:https://kopix.net/index.php?option=com_jem&view=event&id=3:imagination-
 birthday-celebration-for-gthoughts&Itemid=235
END:VEVENT
END:VCALENDAR
