BEGIN:VCALENDAR
VERSION:2.0
PRODID:-//162.241.226.25//NONSGML kigkonsult.se iCalcreator 2.20//
CALSCALE:GREGORIAN
METHOD:PUBLISH
X-WR-TIMEZONE:America/New_York
BEGIN:VEVENT
UID:event4@KoPix.net
DTSTAMP:20260423T192141Z
CATEGORIES:General
DESCRIPTION:Farewell Winter | Carnival Royale\nCategory: General\nLink: htt
 ps://kopix.net/index.php?option=com_jem&view=event&id=4:farewell-winter-ca
 rnival-royale&Itemid=235\n
DTSTART;TZID=America/New_York:20210328T160000
DTEND;TZID=America/New_York:20210328T220000
LOCATION:Brooklyn (Secret Location)\,Brooklyn
SUMMARY:Farewell Winter | Carnival Royale
URL:https://kopix.net/index.php?option=com_jem&view=event&id=4:farewell-win
 ter-carnival-royale&Itemid=235
END:VEVENT
END:VCALENDAR
