BEGIN:VCALENDAR
VERSION:2.0
PRODID:-//162.241.226.25//NONSGML kigkonsult.se iCalcreator 2.20//
CALSCALE:GREGORIAN
METHOD:PUBLISH
X-WR-TIMEZONE:America/New_York
BEGIN:VEVENT
UID:event6@KoPix.net
DTSTAMP:20260423T192153Z
CATEGORIES:General
DESCRIPTION:CHAMPAGNE CAMPAIGN - The Opulent Day Soiree\nCategory: General
 \nLink: https://kopix.net/index.php?option=com_jem&view=event&id=6:champag
 ne-campaign-the-opulent-day-soiree&Itemid=235\n
DTSTART;VALUE=DATE:20210502
DTEND;VALUE=DATE:20210503
LOCATION:Bronx\, Secret Location\,Bronx
SUMMARY:CHAMPAGNE CAMPAIGN - The Opulent Day Soiree
URL:https://kopix.net/index.php?option=com_jem&view=event&id=6:champagne-ca
 mpaign-the-opulent-day-soiree&Itemid=235
END:VEVENT
END:VCALENDAR
